BEGIN:VCALENDAR
VERSION:2.0
PRODID:-//Esri Polska - ECPv6.15.20//NONSGML v1.0//EN
CALSCALE:GREGORIAN
METHOD:PUBLISH
X-WR-CALNAME:Esri Polska
X-ORIGINAL-URL:https://esri.pl
X-WR-CALDESC:Wydarzenia dla Esri Polska
REFRESH-INTERVAL;VALUE=DURATION:PT1H
X-Robots-Tag:noindex
X-PUBLISHED-TTL:PT1H
BEGIN:VTIMEZONE
TZID:UTC
BEGIN:STANDARD
TZOFFSETFROM:+0000
TZOFFSETTO:+0000
TZNAME:UTC
DTSTART:20250101T000000
END:STANDARD
END:VTIMEZONE
BEGIN:VEVENT
DTSTART;VALUE=DATE:20260311
DTEND;VALUE=DATE:20260314
DTSTAMP:20260420T133312
CREATED:20260306T153707Z
LAST-MODIFIED:20260306T153707Z
UID:10000059-1773187200-1773446399@esri.pl
SUMMARY:Telekomunikacja i Informatyka na kolei
DESCRIPTION:Telekomunikacja i Informatyka na Kolei to jedno z największych w Polsce spotkań branży IT i telekomunikacji dla sektora kolejowego\, łączące operatorów\, spółki kolejowe\, dostawców technologii i wykonawców. W centrum programu są zagadnienia cyfrowej transformacji kolei\, bezpieczeństwa ruchu oraz cyberbezpieczeństwa\, a także rozwiązania dla łączności\, automatyki i sterowania. Zakres tematyczny obejmuje również m.in. zarządzanie geoprzestrzenią oraz systemy SDIP\, PSIM i CCTV\, a konferencji towarzyszy część wystawiennicza i networking.
URL:https://esri.pl/szkolenie/telekomunikacja-i-informatyka-na-kolei/
LOCATION:Hotel Crystal Mountain\, Bukowa 19A\, Wisła\, 43-460\, Poland
END:VEVENT
END:VCALENDAR