BEGIN:VCALENDAR
VERSION:2.0
PRODID:-//Esri Polska - ECPv6.15.20//NONSGML v1.0//EN
CALSCALE:GREGORIAN
METHOD:PUBLISH
X-WR-CALNAME:Esri Polska
X-ORIGINAL-URL:https://esri.pl
X-WR-CALDESC:Wydarzenia dla Esri Polska
REFRESH-INTERVAL;VALUE=DURATION:PT1H
X-Robots-Tag:noindex
X-PUBLISHED-TTL:PT1H
BEGIN:VTIMEZONE
TZID:UTC
BEGIN:STANDARD
TZOFFSETFROM:+0000
TZOFFSETTO:+0000
TZNAME:UTC
DTSTART:20240101T000000
END:STANDARD
END:VTIMEZONE
BEGIN:VEVENT
DTSTART;VALUE=DATE:20250611
DTEND;VALUE=DATE:20250613
DTSTAMP:20260420T104931
CREATED:20250415T182424Z
LAST-MODIFIED:20250415T182544Z
UID:10000015-1749600000-1749772799@esri.pl
SUMMARY:Smart City Forum
DESCRIPTION:Smart City Forum to największe i najważniejsze wydarzenie w Polsce poświęcone rozwojowi inteligentnych miast\, którego jubileuszowa\, dwudziesta edycja odbędzie się w dniach 11-12 czerwca 2025 roku w Rzeszowie-Jasionce. Forum będzie miało miejsce równolegle z prestiżowym Kongresem Bezpieczeństwo Polski. \nRzeszów\, uznawany za jedno z najbardziej innowacyjnych miast w Polsce\, to idealne miejsce do dyskusji o przyszłości inteligentnych rozwiązań miejskich. Miasto nie tylko aktywnie wdraża nowoczesne technologie w zakresie transportu\, energetyki czy zarządzania przestrzenią\, ale także jest domem dla dynamicznie rozwijającego się Urban Labu. To właśnie tu lokalne innowacje łączą się z globalnymi trendami\, czyniąc Rzeszów liderem inteligentnego zarządzania w Europie. Smart City Forum stanie się platformą wymiany doświadczeń pomiędzy przedstawicielami administracji samorządowej\, liderami biznesu oraz ekspertami branżowymi. Uczestnicy będą mogli wziąć udział w inspirujących debatach\, prezentacjach oraz case studies skupiających się na najważniejszych wyzwaniach i szansach dla miast przyszłości\, szczególnie w kontekście dynamicznych zmian technologicznych oraz geopolitycznych. Wysoki poziom merytoryczny wydarzenia gwarantuje Rada Programowa\, której przewodniczy Maciej Bluj\, uznany ekspert w dziedzinie Smart City. Jubileuszowa edycja forum to doskonała okazja do poznania najnowszych trendów\, wymiany wiedzy oraz nawiązania cennych kontaktów\, które pomogą samorządom efektywnie budować strategie rozwoju na przyszłość. \nZapraszamy do Rzeszowa – miasta inteligencji i innowacji – aby wspólnie kształtować przyszłość polskich miast! \n 
URL:https://esri.pl/szkolenie/smart-city-forum/
END:VEVENT
END:VCALENDAR